BEGIN:VCALENDAR
VERSION:2.0
PRODID:-//South Newington Village - ECPv6.15.16//NONSGML v1.0//EN
CALSCALE:GREGORIAN
METHOD:PUBLISH
X-ORIGINAL-URL:https://www.southnewington.co.uk
X-WR-CALDESC:Events for South Newington Village
REFRESH-INTERVAL;VALUE=DURATION:PT1H
X-Robots-Tag:noindex
X-PUBLISHED-TTL:PT1H
BEGIN:VTIMEZONE
TZID:Europe/London
BEGIN:DAYLIGHT
TZOFFSETFROM:+0000
TZOFFSETTO:+0100
TZNAME:BST
DTSTART:20230326T010000
END:DAYLIGHT
BEGIN:STANDARD
TZOFFSETFROM:+0100
TZOFFSETTO:+0000
TZNAME:GMT
DTSTART:20231029T010000
END:STANDARD
BEGIN:DAYLIGHT
TZOFFSETFROM:+0000
TZOFFSETTO:+0100
TZNAME:BST
DTSTART:20240331T010000
END:DAYLIGHT
BEGIN:STANDARD
TZOFFSETFROM:+0100
TZOFFSETTO:+0000
TZNAME:GMT
DTSTART:20241027T010000
END:STANDARD
BEGIN:DAYLIGHT
TZOFFSETFROM:+0000
TZOFFSETTO:+0100
TZNAME:BST
DTSTART:20250330T010000
END:DAYLIGHT
BEGIN:STANDARD
TZOFFSETFROM:+0100
TZOFFSETTO:+0000
TZNAME:GMT
DTSTART:20251026T010000
END:STANDARD
BEGIN:DAYLIGHT
TZOFFSETFROM:+0000
TZOFFSETTO:+0100
TZNAME:BST
DTSTART:20260329T010000
END:DAYLIGHT
BEGIN:STANDARD
TZOFFSETFROM:+0100
TZOFFSETTO:+0000
TZNAME:GMT
DTSTART:20261025T010000
END:STANDARD
END:VTIMEZONE
BEGIN:VEVENT
DTSTART;TZID=Europe/London:20250316T111500
DTEND;TZID=Europe/London:20250316T111500
DTSTAMP:20260426T052642
CREATED:20250308T104100Z
LAST-MODIFIED:20250308T104100Z
UID:80298-1742123700-1742123700@www.southnewington.co.uk
SUMMARY:Church Service - Family Service - Sunday 16th March 2025 @ 11.15am
DESCRIPTION:
URL:https://www.southnewington.co.uk/event/church-service-family-service-sunday-16th-march-2025-11-15am/
LOCATION:St Peter Ad Vincula\, The Town\, South Newington\, OX15 4JG\, United Kingdom
END:VEVENT
BEGIN:VEVENT
DTSTART;TZID=Europe/London:20250309T180000
DTEND;TZID=Europe/London:20250309T180000
DTSTAMP:20260426T052642
CREATED:20250227T200329Z
LAST-MODIFIED:20250227T200329Z
UID:80290-1741543200-1741543200@www.southnewington.co.uk
SUMMARY:Benefice Zoom Night Prayer - Sunday 9th March 2025 @ 6pm
DESCRIPTION:Benefice Zoom Service at 6.00pm use the link below or dial in \nhttps://us02web.zoom.us/j/84248830391?pwd=UURHb0FFSjRMd0FFMUtma1Bhd0dZZz09 \nMeeting ID: 842 4883 0391 Passcode: 559387 \nDial from your landline — 0203 481 5240 or 0203 051 2874 or 0131 460 1196
URL:https://www.southnewington.co.uk/event/benefice-zoom-night-prayer-sunday-9th-march-2025-6pm/
END:VEVENT
BEGIN:VEVENT
DTSTART;TZID=Europe/London:20250309T170000
DTEND;TZID=Europe/London:20250309T170000
DTSTAMP:20260426T052642
CREATED:20250227T200215Z
LAST-MODIFIED:20250227T200215Z
UID:80288-1741539600-1741539600@www.southnewington.co.uk
SUMMARY:Church Service - Evening Prayer + Hymns - Sunday 9th March 2025 @ 5pm
DESCRIPTION:
URL:https://www.southnewington.co.uk/event/church-service-evening-prayer-hymns-sunday-9th-march-2025-5pm/
LOCATION:St Peter Ad Vincula\, The Town\, South Newington\, OX15 4JG\, United Kingdom
END:VEVENT
BEGIN:VEVENT
DTSTART;TZID=Europe/London:20250302T180000
DTEND;TZID=Europe/London:20250302T180000
DTSTAMP:20260426T052642
CREATED:20250221T152549Z
LAST-MODIFIED:20250221T152549Z
UID:80281-1740938400-1740938400@www.southnewington.co.uk
SUMMARY:Benefice Zoom Night Prayer - Sunday 2nd March 2025 @ 6pm
DESCRIPTION:Benefice Zoom Service at 6.00pm use the link below or dial in \nhttps://us02web.zoom.us/j/84248830391?pwd=UURHb0FFSjRMd0FFMUtma1Bhd0dZZz09 \nMeeting ID: 842 4883 0391 Passcode: 559387 \nDial from your landline — 0203 481 5240 or 0203 051 2874 or 0131 460 1196
URL:https://www.southnewington.co.uk/event/benefice-zoom-night-prayer-sunday-2nd-march-2025-6pm/
END:VEVENT
BEGIN:VEVENT
DTSTART;TZID=Europe/London:20250302T080000
DTEND;TZID=Europe/London:20250302T080000
DTSTAMP:20260426T052642
CREATED:20250221T152405Z
LAST-MODIFIED:20250221T152405Z
UID:80279-1740902400-1740902400@www.southnewington.co.uk
SUMMARY:Church Service - BCP Holy Communion - Sunday 2nd March 2025 @ 8am
DESCRIPTION:
URL:https://www.southnewington.co.uk/event/church-service-bcp-holy-communion-sunday-2nd-march-2025-8am/
LOCATION:St Peter Ad Vincula\, The Town\, South Newington\, OX15 4JG\, United Kingdom
END:VEVENT
BEGIN:VEVENT
DTSTART;TZID=Europe/London:20250223T080000
DTEND;TZID=Europe/London:20250223T080000
DTSTAMP:20260426T052642
CREATED:20250213T163603Z
LAST-MODIFIED:20250213T163603Z
UID:80266-1740297600-1740297600@www.southnewington.co.uk
SUMMARY:Church Service - BCP Holy Communion - Sunday 23rd February 2025 @ 8am
DESCRIPTION:
URL:https://www.southnewington.co.uk/event/church-service-bcp-holy-communion-sunday-23rd-february-2025-8am/
LOCATION:St Peter Ad Vincula\, The Town\, South Newington\, OX15 4JG\, United Kingdom
END:VEVENT
BEGIN:VEVENT
DTSTART;TZID=Europe/London:20250220T103000
DTEND;TZID=Europe/London:20250220T120000
DTSTAMP:20260426T052642
CREATED:20250109T125842Z
LAST-MODIFIED:20250109T125842Z
UID:80155-1740047400-1740052800@www.southnewington.co.uk
SUMMARY:Coffee Morning at the Village Hall 10:30am - 12 Noon - Thursday 20th February 2025
DESCRIPTION:
URL:https://www.southnewington.co.uk/event/coffee-morning-at-the-village-hall-1030am-12-noon-thursday-20th-february-2025/
LOCATION:Village Hall\, Barford Road\, South Newington\, OX15 4JL\, United Kingdom
END:VEVENT
BEGIN:VEVENT
DTSTART;TZID=Europe/London:20250216T180000
DTEND;TZID=Europe/London:20250216T180000
DTSTAMP:20260426T052642
CREATED:20250207T224517Z
LAST-MODIFIED:20250207T224517Z
UID:80250-1739728800-1739728800@www.southnewington.co.uk
SUMMARY:Church Service - Benefice Zoom Night Prayer - Sunday 16th February 2025 @ 6pm
DESCRIPTION:Benefice Zoom Service at 6.00pm use the link below or dial in \nhttps://us02web.zoom.us/j/84248830391?pwd=UURHb0FFSjRMd0FFMUtma1Bhd0dZZz09 \nMeeting ID: 842 4883 0391 Passcode: 559387 \nDial from your landline — 0203 481 5240 or 0203 051 2874 or 0131 460 1196
URL:https://www.southnewington.co.uk/event/church-service-benefice-zoom-night-prayer-sunday-16th-february-2025-6pm/
END:VEVENT
BEGIN:VEVENT
DTSTART;TZID=Europe/London:20250216T111500
DTEND;TZID=Europe/London:20250216T111500
DTSTAMP:20260426T052642
CREATED:20250207T224752Z
LAST-MODIFIED:20250207T224752Z
UID:80251-1739704500-1739704500@www.southnewington.co.uk
SUMMARY:Church Service - Family Service @ 11.15am on Sunday 16th February 2025
DESCRIPTION:
URL:https://www.southnewington.co.uk/event/church-service-family-service-11-15am-on-sunday-16th-february-2025/
END:VEVENT
BEGIN:VEVENT
DTSTART;TZID=Europe/London:20250209T180000
DTEND;TZID=Europe/London:20250209T180000
DTSTAMP:20260426T052642
CREATED:20250131T181842Z
LAST-MODIFIED:20250207T223113Z
UID:80235-1739124000-1739124000@www.southnewington.co.uk
SUMMARY:Church Service - Benefice Zoom Night Prayer - Sunday 9th February 2025 @ 6pm
DESCRIPTION:Benefice Zoom Service at 6.00pm use the link below or dial in \nhttps://us02web.zoom.us/j/84248830391?pwd=UURHb0FFSjRMd0FFMUtma1Bhd0dZZz09 \nMeeting ID: 842 4883 0391 Passcode: 559387 \nDial from your landline — 0203 481 5240 or 0203 051 2874 or 0131 460 1196
URL:https://www.southnewington.co.uk/event/churhc-service-benefice-zoom-night-prayer-sunday-9th-february-2025-6pm/
END:VEVENT
BEGIN:VEVENT
DTSTART;TZID=Europe/London:20250209T170000
DTEND;TZID=Europe/London:20250209T170000
DTSTAMP:20260426T052642
CREATED:20250131T181721Z
LAST-MODIFIED:20250131T181721Z
UID:80233-1739120400-1739120400@www.southnewington.co.uk
SUMMARY:Church Service - Evening Prayer + Hymns - Sunday 9th February 2025 @ 5pm
DESCRIPTION:
URL:https://www.southnewington.co.uk/event/church-service-evening-prayer-hymns-sunday-9th-february-2025-5pm/
LOCATION:St Peter Ad Vincula\, The Town\, South Newington\, OX15 4JG\, United Kingdom
END:VEVENT
BEGIN:VEVENT
DTSTART;TZID=Europe/London:20250202T180000
DTEND;TZID=Europe/London:20250202T180000
DTSTAMP:20260426T052642
CREATED:20250124T101511Z
LAST-MODIFIED:20250124T101511Z
UID:80217-1738519200-1738519200@www.southnewington.co.uk
SUMMARY:Church Service - Benefice Zoom Night Prayer @ 6pm on Sunday 2nd February 2025
DESCRIPTION:Benefice Zoom Service at 6.00pm use the link below or dial in \nhttps://us02web.zoom.us/j/84248830391?pwd=UURHb0FFSjRMd0FFMUtma1Bhd0dZZz09 \nMeeting ID: 842 4883 0391 Passcode: 559387 \nDial from your landline — 0203 481 5240 or 0203 051 2874 or 0131 460 1196
URL:https://www.southnewington.co.uk/event/church-service-benefice-zoom-night-prayer-6pm-on-sunday-2nd-february-2025/
END:VEVENT
BEGIN:VEVENT
DTSTART;TZID=Europe/London:20250202T080000
DTEND;TZID=Europe/London:20250202T080000
DTSTAMP:20260426T052642
CREATED:20250124T101344Z
LAST-MODIFIED:20250124T101344Z
UID:80215-1738483200-1738483200@www.southnewington.co.uk
SUMMARY:Church Service - BCP Holy Communion @ 8am on Sunday 2nd February 2025
DESCRIPTION:
URL:https://www.southnewington.co.uk/event/church-service-bcp-holy-communion-8am-on-sunday-2nd-february-2025/
LOCATION:St Peter Ad Vincula\, The Town\, South Newington\, OX15 4JG\, United Kingdom
END:VEVENT
BEGIN:VEVENT
DTSTART;TZID=Europe/London:20250126T080000
DTEND;TZID=Europe/London:20250126T080000
DTSTAMP:20260426T052642
CREATED:20250118T112637Z
LAST-MODIFIED:20250124T101814Z
UID:80205-1737878400-1737878400@www.southnewington.co.uk
SUMMARY:Church Service - BCP Holy Communion Sunday 26th January 2025 @ 8am
DESCRIPTION:
URL:https://www.southnewington.co.uk/event/church-service-bcp-holy-communion-sunday-25th-january-2025-8am/
LOCATION:St Peter Ad Vincula\, The Town\, South Newington\, OX15 4JG\, United Kingdom
END:VEVENT
BEGIN:VEVENT
DTSTART;TZID=Europe/London:20250121T193000
DTEND;TZID=Europe/London:20250121T203000
DTSTAMP:20260426T052642
CREATED:20250118T113029Z
LAST-MODIFIED:20250118T113029Z
UID:80207-1737487800-1737491400@www.southnewington.co.uk
SUMMARY:Parish Council Meeting - Tuesday 21st January 2025 @ 7.30pm in the Village Hall
DESCRIPTION:
URL:https://www.southnewington.co.uk/event/parish-council-meeting-tuesday-21st-january-2025-7-30pm-in-the-village-hall/
LOCATION:Village Hall\, Barford Road\, South Newington\, OX15 4JL\, United Kingdom
END:VEVENT
BEGIN:VEVENT
DTSTART;TZID=Europe/London:20250119T180000
DTEND;TZID=Europe/London:20250119T180000
DTSTAMP:20260426T052642
CREATED:20250110T104351Z
LAST-MODIFIED:20250110T104351Z
UID:80187-1737309600-1737309600@www.southnewington.co.uk
SUMMARY:Church Service - Benefice Zoom Night Prayer - Sunday 19th January 2025 @ 6pm
DESCRIPTION:Benefice Zoom Service at 6.00pm use the link below or dial in \nhttps://us02web.zoom.us/j/84248830391?pwd=UURHb0FFSjRMd0FFMUtma1Bhd0dZZz09 \nMeeting ID: 842 4883 0391 Passcode: 559387 \nDial from your landline — 0203 481 5240 or 0203 051 2874 or 0131 460 1196
URL:https://www.southnewington.co.uk/event/church-service-benefice-zoom-night-prayer-sunday-19th-january-2025-6pm/
END:VEVENT
BEGIN:VEVENT
DTSTART;TZID=Europe/London:20250116T103000
DTEND;TZID=Europe/London:20250116T120000
DTSTAMP:20260426T052642
CREATED:20250104T121058Z
LAST-MODIFIED:20250109T131150Z
UID:80140-1737023400-1737028800@www.southnewington.co.uk
SUMMARY:Coffee Morning - 16th January 2025 - 10:30am to 12 noon in the Village Hall
DESCRIPTION:You are invited to a coffee morning which is being hosted by Jane Lennox and Julia Streeter  in the Village Hall from 10.30am to 12 noon on Thursday 16th January 2025 \nCoffee/Tea and piece of Cake – £3.00 \nRaffle \nProceeds donated to the Village. \nWhy not pop along for a chat.
URL:https://www.southnewington.co.uk/event/coffee-morning-16th-january-1030am-to-12-noon-in-the-village-hall/
LOCATION:Village Hall\, Barford Road\, South Newington\, OX15 4JL\, United Kingdom
END:VEVENT
BEGIN:VEVENT
DTSTART;TZID=Europe/London:20250112T180000
DTEND;TZID=Europe/London:20250112T180000
DTSTAMP:20260426T052642
CREATED:20250104T121507Z
LAST-MODIFIED:20250104T121507Z
UID:80146-1736704800-1736704800@www.southnewington.co.uk
SUMMARY:Church Service - Benefice Zoom Night Prayer - Sunday 12th January 2025 @ 6pm
DESCRIPTION:Benefice Zoom Service at 6.00pm use the link below or dial in \nhttps://us02web.zoom.us/j/84248830391?pwd=UURHb0FFSjRMd0FFMUtma1Bhd0dZZz09 \nMeeting ID: 842 4883 0391 Passcode: 559387 \nDial from your landline — 0203 481 5240 or 0203 051 2874 or 0131 460 1196
URL:https://www.southnewington.co.uk/event/church-service-benefice-zoom-night-prayer-sunday-12th-january-2025-6pm/
END:VEVENT
BEGIN:VEVENT
DTSTART;TZID=Europe/London:20250112T111500
DTEND;TZID=Europe/London:20250112T231500
DTSTAMP:20260426T052642
CREATED:20250104T121352Z
LAST-MODIFIED:20250104T121352Z
UID:80144-1736680500-1736723700@www.southnewington.co.uk
SUMMARY:Family Church Service - Sunday 12th January 2025 @ 11:15am
DESCRIPTION:
URL:https://www.southnewington.co.uk/event/family-church-service-sunday-12th-january-2025-1115am/
LOCATION:St Peter Ad Vincula\, The Town\, South Newington\, OX15 4JG\, United Kingdom
END:VEVENT
BEGIN:VEVENT
DTSTART;TZID=Europe/London:20250105T170000
DTEND;TZID=Europe/London:20250105T170000
DTSTAMP:20260426T052642
CREATED:20250104T121230Z
LAST-MODIFIED:20250104T121230Z
UID:80142-1736096400-1736096400@www.southnewington.co.uk
SUMMARY:Church Service - Epiphany Carols - Sunday 5th January 2025 @ 5pm
DESCRIPTION:
URL:https://www.southnewington.co.uk/event/church-service-epiphany-carols-sunday-5th-january-2025-5pm/
LOCATION:St Peter Ad Vincula\, The Town\, South Newington\, OX15 4JG\, United Kingdom
END:VEVENT
BEGIN:VEVENT
DTSTART;TZID=Europe/London:20241222T080000
DTEND;TZID=Europe/London:20241222T080000
DTSTAMP:20260426T052642
CREATED:20241213T210600Z
LAST-MODIFIED:20241213T210600Z
UID:80123-1734854400-1734854400@www.southnewington.co.uk
SUMMARY:Church Service - BCP Holy Communion - Sunday 22nd December 2024 @ 8am
DESCRIPTION:South Newington
URL:https://www.southnewington.co.uk/event/church-service-bcp-holy-communion-sunday-22nd-december-2024-8am/
END:VEVENT
BEGIN:VEVENT
DTSTART;TZID=Europe/London:20241219T103000
DTEND;TZID=Europe/London:20241219T120000
DTSTAMP:20260426T052642
CREATED:20240108T102806Z
LAST-MODIFIED:20240108T102806Z
UID:70061-1734604200-1734609600@www.southnewington.co.uk
SUMMARY:Christmas Coffee Morning - Thursday 19th December 2024 @ 10.30am in the Village Hall
DESCRIPTION:
URL:https://www.southnewington.co.uk/event/christmas-coffee-morning-thursday-19th-december-2024-10-30am-in-the-village-hall/
LOCATION:Village Hall\, Barford Road\, South Newington\, OX15 4JL\, United Kingdom
END:VEVENT
BEGIN:VEVENT
DTSTART;TZID=Europe/London:20241215T180000
DTEND;TZID=Europe/London:20241215T180000
DTSTAMP:20260426T052642
CREATED:20241213T205139Z
LAST-MODIFIED:20241213T205139Z
UID:80116-1734285600-1734285600@www.southnewington.co.uk
SUMMARY:Benefice Zoom Night Prayer- Sunday 15th December 2024 @ 6pm
DESCRIPTION:Benefice Zoom Service at 6.00pm use the link below or dial in \nhttps://us02web.zoom.us/j/84248830391?pwd=UURHb0FFSjRMd0FFMUtma1Bhd0dZZz09 \nMeeting ID: 842 4883 0391 Passcode: 559387 \nDial from your landline — 0203 481 5240 or 0203 051 2874 or 0131 460 1196
URL:https://www.southnewington.co.uk/event/benefice-zoom-night-prayer-sunday-15th-december-2024-6pm/
END:VEVENT
BEGIN:VEVENT
DTSTART;TZID=Europe/London:20241215T170000
DTEND;TZID=Europe/London:20241215T180000
DTSTAMP:20260426T052642
CREATED:20241118T195025Z
LAST-MODIFIED:20241201T114847Z
UID:80003-1734282000-1734285600@www.southnewington.co.uk
SUMMARY:Festival of Nine Lessons and Carols  -  Sunday 15th December at 5pm
DESCRIPTION:There is a Carol Service in the village on Sunday 15th December at 5pm.  We are hoping to raise money for the Breadline Project (https://breadlineproject.org/) \nSouth Newington Occasional Singers (SNOS) will be in attendance and will significantly improve the quality of the singing.
URL:https://www.southnewington.co.uk/event/carol-service-sunday-15th-december-at-5pm/
LOCATION:St Peter Ad Vincula\, The Town\, South Newington\, OX15 4JG\, United Kingdom
END:VEVENT
BEGIN:VEVENT
DTSTART;TZID=Europe/London:20241215T080000
DTEND;TZID=Europe/London:20241215T080000
DTSTAMP:20260426T052642
CREATED:20241213T205421Z
LAST-MODIFIED:20241213T210653Z
UID:80118-1734249600-1734249600@www.southnewington.co.uk
SUMMARY:Church Service - BCP Holy Communion - Sunday 15th December 2024 @ 8am
DESCRIPTION:Bloxham
URL:https://www.southnewington.co.uk/event/church-service-bcp-holy-communion-sunday-15th-december-2024-8am/
END:VEVENT
BEGIN:VEVENT
DTSTART;TZID=Europe/London:20241214T170000
DTEND;TZID=Europe/London:20241214T200000
DTSTAMP:20260426T052642
CREATED:20241114T195254Z
LAST-MODIFIED:20241114T195717Z
UID:79982-1734195600-1734206400@www.southnewington.co.uk
SUMMARY:Christmas Tractor Run - Saturday 14 December 2024 from 5pm
DESCRIPTION:The super popular Christmas Tractor Run which departs from Springhill Farm in Barford Road\, South Newington and goes through the villages to raise money for Katherine House Hospice will take place on Saturday 14 December 2024. \nFind out more using the following link \nwww.khh.org.uk/tractor \n 
URL:https://www.southnewington.co.uk/event/christmas-tractor-run-saturday-14-december-2024-from-5pm/
END:VEVENT
BEGIN:VEVENT
DTSTART;TZID=Europe/London:20241208T111500
DTEND;TZID=Europe/London:20241208T231500
DTSTAMP:20260426T052642
CREATED:20241130T114048Z
LAST-MODIFIED:20241130T114048Z
UID:80090-1733656500-1733699700@www.southnewington.co.uk
SUMMARY:Church Service - Family Communion @ 11.15am on Sunday 8th December 2024
DESCRIPTION:
URL:https://www.southnewington.co.uk/event/church-service-family-communion-11-15am-on-sunday-8th-december-2024/
LOCATION:St Peter Ad Vincula\, The Town\, South Newington\, OX15 4JG\, United Kingdom
END:VEVENT
BEGIN:VEVENT
DTSTART;TZID=Europe/London:20241201T170000
DTEND;TZID=Europe/London:20241201T170000
DTSTAMP:20260426T052642
CREATED:20241201T115307Z
LAST-MODIFIED:20241201T115351Z
UID:80096-1733072400-1733072400@www.southnewington.co.uk
SUMMARY:Christmas Tree Lighting with Music - Sunday 1st December 2024 @ 5pm at the Church
DESCRIPTION:CHRISTMAS MUSIC\, CAROL SINGING & TREE LIGHTING – SUNDAY 1st DECEMBER AT 5.00pm \nEveryone welcome! \nSouth Newington Singers – and the Folky Folk. \nJoin us in the church for some Christmas music and carols before more singing round the tree outside when the\nChristmas lights will be switched on. \nMulled wine and mince pies too!
URL:https://www.southnewington.co.uk/event/christmas-tree-lighting-with-music-sunday-1st-december-2024-5pm-at-the-church/
LOCATION:St Peter Ad Vincula\, The Town\, South Newington\, OX15 4JG\, United Kingdom
END:VEVENT
BEGIN:VEVENT
DTSTART;TZID=Europe/London:20241201T080000
DTEND;TZID=Europe/London:20241201T170000
DTSTAMP:20260426T052642
CREATED:20241201T115831Z
LAST-MODIFIED:20241201T115831Z
UID:80101-1733040000-1733072400@www.southnewington.co.uk
SUMMARY:Coffee and Creatives - Village Hall - Thursday 5th December 2024 - 9.30 to Noon
DESCRIPTION:
URL:https://www.southnewington.co.uk/event/coffee-and-creatives-village-hall-thursday-5th-december-2024-9-30-to-noon/
END:VEVENT
BEGIN:VEVENT
DTSTART;TZID=Europe/London:20241201T080000
DTEND;TZID=Europe/London:20241201T080000
DTSTAMP:20260426T052642
CREATED:20241121T212042Z
LAST-MODIFIED:20241121T212042Z
UID:80075-1733040000-1733040000@www.southnewington.co.uk
SUMMARY:Church Service - (1st Sunday of Advent) BCP Holy Communion - Sunday 1st December 2024 @ 8am
DESCRIPTION:
URL:https://www.southnewington.co.uk/event/church-service-1st-sunday-of-advent-bcp-holy-communion-sunday-1st-december-2024-8am/
LOCATION:St Peter Ad Vincula\, The Town\, South Newington\, OX15 4JG\, United Kingdom
END:VEVENT
END:VCALENDAR