BEGIN:VCALENDAR
VERSION:2.0
PRODID:-//South Newington Village - ECPv6.15.16//NONSGML v1.0//EN
CALSCALE:GREGORIAN
METHOD:PUBLISH
X-ORIGINAL-URL:https://www.southnewington.co.uk
X-WR-CALDESC:Events for South Newington Village
REFRESH-INTERVAL;VALUE=DURATION:PT1H
X-Robots-Tag:noindex
X-PUBLISHED-TTL:PT1H
BEGIN:VTIMEZONE
TZID:Europe/London
BEGIN:DAYLIGHT
TZOFFSETFROM:+0000
TZOFFSETTO:+0100
TZNAME:BST
DTSTART:20240331T010000
END:DAYLIGHT
BEGIN:STANDARD
TZOFFSETFROM:+0100
TZOFFSETTO:+0000
TZNAME:GMT
DTSTART:20241027T010000
END:STANDARD
BEGIN:DAYLIGHT
TZOFFSETFROM:+0000
TZOFFSETTO:+0100
TZNAME:BST
DTSTART:20250330T010000
END:DAYLIGHT
BEGIN:STANDARD
TZOFFSETFROM:+0100
TZOFFSETTO:+0000
TZNAME:GMT
DTSTART:20251026T010000
END:STANDARD
BEGIN:DAYLIGHT
TZOFFSETFROM:+0000
TZOFFSETTO:+0100
TZNAME:BST
DTSTART:20260329T010000
END:DAYLIGHT
BEGIN:STANDARD
TZOFFSETFROM:+0100
TZOFFSETTO:+0000
TZNAME:GMT
DTSTART:20261025T010000
END:STANDARD
END:VTIMEZONE
BEGIN:VEVENT
DTSTART;TZID=Europe/London:20250515T103000
DTEND;TZID=Europe/London:20250515T120000
DTSTAMP:20260426T031109
CREATED:20250109T130249Z
LAST-MODIFIED:20250504T091729Z
UID:80162-1747305000-1747310400@www.southnewington.co.uk
SUMMARY:Coffee Morning at the Village Hall - 10.30am to 12 noon on Thursday 15th May 2025
DESCRIPTION:You are invited to a coffee morning in the village hall from 10.30am to 12 noon hosted by Sue and Peter Thomas
URL:https://www.southnewington.co.uk/event/cofffee-morning-at-the-village-hall-10-30am-to-12-noon-on-thursday-15th-may-2025/
LOCATION:Village Hall\, Barford Road\, South Newington\, OX15 4JL\, United Kingdom
END:VEVENT
BEGIN:VEVENT
DTSTART;TZID=Europe/London:20250511T180000
DTEND;TZID=Europe/London:20250511T180000
DTSTAMP:20260426T031109
CREATED:20250504T092236Z
LAST-MODIFIED:20250509T085344Z
UID:80524-1746986400-1746986400@www.southnewington.co.uk
SUMMARY:Church Service - Benefice Zoom Night Prayer - Sunday 11th May 2025 @ 6pm
DESCRIPTION:Benefice Zoom Service at 6.00pm use the link below or dial in \nhttps://us02web.zoom.us/j/84248830391? \npwd=UURHb0FFSjRMd0FFMUtma1Bhd0dZZz09 \nMeeting ID: 842 4883 0391 Passcode: 559387 \nDial from your landline — 0203 481 5240 or 0203 051 2874 or 0131 460 1196
URL:https://www.southnewington.co.uk/event/church-service-benefice-zoom-night-prayer-sunday-11th-may-2025-6pm/
END:VEVENT
BEGIN:VEVENT
DTSTART;TZID=Europe/London:20250511T170000
DTEND;TZID=Europe/London:20250511T170000
DTSTAMP:20260426T031109
CREATED:20250504T092056Z
LAST-MODIFIED:20250504T092056Z
UID:80522-1746982800-1746982800@www.southnewington.co.uk
SUMMARY:Church Services - Evening Prayer + Hymns - 11th May 2025 at 5pm
DESCRIPTION:
URL:https://www.southnewington.co.uk/event/church-services-evening-prayer-hymns-11th-may-2025-at-5pm/
LOCATION:St Peter Ad Vincula\, The Town\, South Newington\, OX15 4JG\, United Kingdom
END:VEVENT
BEGIN:VEVENT
DTSTART;TZID=Europe/London:20250506T193000
DTEND;TZID=Europe/London:20250506T203000
DTSTAMP:20260426T031109
CREATED:20250504T093614Z
LAST-MODIFIED:20250504T093614Z
UID:80531-1746559800-1746563400@www.southnewington.co.uk
SUMMARY:Annual Parish Meeting in the Village Hall - Tuesday 6th May 2025 @ 7.30pm
DESCRIPTION:
URL:https://www.southnewington.co.uk/event/annual-parish-meeting-in-the-village-hall-tuesday-6th-may-2025-7-30pm/
LOCATION:Village Hall\, Barford Road\, South Newington\, OX15 4JL\, United Kingdom
END:VEVENT
BEGIN:VEVENT
DTSTART;TZID=Europe/London:20250504T180000
DTEND;TZID=Europe/London:20250504T180000
DTSTAMP:20260426T031109
CREATED:20250425T074312Z
LAST-MODIFIED:20250504T092333Z
UID:80497-1746381600-1746381600@www.southnewington.co.uk
SUMMARY:Church Service - Benefice Zoom Night Prayer @ 6pm on Sunday 4th May 2025
DESCRIPTION:Benefice Zoom Service at 6.00pm use the link below or dial in \nhttps://us02web.zoom.us/j/84248830391? \npwd=UURHb0FFSjRMd0FFMUtma1Bhd0dZZz09 \nMeeting ID: 842 4883 0391 Passcode: 559387 \nDial from your landline — 0203 481 5240 or 0203 051 2874 or 0131 460 1196
URL:https://www.southnewington.co.uk/event/church-service-benefice-zoom-night-prayer-6pm-on-sunday-4th-may-2025/
END:VEVENT
BEGIN:VEVENT
DTSTART;TZID=Europe/London:20250504T080000
DTEND;TZID=Europe/London:20250504T080000
DTSTAMP:20260426T031109
CREATED:20250425T074144Z
LAST-MODIFIED:20250425T074144Z
UID:80495-1746345600-1746345600@www.southnewington.co.uk
SUMMARY:Church Service - BCP Holy Communion @ 8am on Sunday 4th May 2025
DESCRIPTION:
URL:https://www.southnewington.co.uk/event/church-service-bcp-holy-communion-8am-on-sunday-4th-may-2025/
LOCATION:St Peter Ad Vincula\, The Town\, South Newington\, OX15 4JG\, United Kingdom
END:VEVENT
BEGIN:VEVENT
DTSTART;TZID=Europe/London:20250427T180000
DTEND;TZID=Europe/London:20250427T180000
DTSTAMP:20260426T031109
CREATED:20250421T094649Z
LAST-MODIFIED:20250421T094649Z
UID:80478-1745776800-1745776800@www.southnewington.co.uk
SUMMARY:Church Service - Benefice Zoom Night Prayer @ 6pm on Sunday 27th April 2025
DESCRIPTION:Benefice Zoom Service at 6.00pm use the link below or dial in \nhttps://us02web.zoom.us/j/84248830391? \npwd=UURHb0FFSjRMd0FFMUtma1Bhd0dZZz09 \nMeeting ID: 842 4883 0391 Passcode: 559387 \nDial from your landline — 0203 481 5240 or 0203 051 2874 or 0131 460 1196
URL:https://www.southnewington.co.uk/event/church-service-benefice-zoom-night-prayer-6pm-on-sunday-27th-april-2025/
END:VEVENT
BEGIN:VEVENT
DTSTART;TZID=Europe/London:20250427T080000
DTEND;TZID=Europe/London:20250427T080000
DTSTAMP:20260426T031109
CREATED:20250421T094522Z
LAST-MODIFIED:20250421T094522Z
UID:80476-1745740800-1745740800@www.southnewington.co.uk
SUMMARY:Church Service - BCP Holy Communion @ 8am - Sunday 27th April 2025
DESCRIPTION:
URL:https://www.southnewington.co.uk/event/church-service-bcp-holy-communion-8am-sunday-27th-april-2025/
LOCATION:St Peter Ad Vincula\, The Town\, South Newington\, OX15 4JG\, United Kingdom
END:VEVENT
BEGIN:VEVENT
DTSTART;TZID=Europe/London:20250420T111500
DTEND;TZID=Europe/London:20250420T111500
DTSTAMP:20260426T031109
CREATED:20250414T180024Z
LAST-MODIFIED:20250414T180024Z
UID:80459-1745147700-1745147700@www.southnewington.co.uk
SUMMARY:Church Service - Easter Communion - Sunday 20th April @ 11.15am
DESCRIPTION:
URL:https://www.southnewington.co.uk/event/church-service-easter-communion-sunday-20th-april-11-15am/
LOCATION:St Peter Ad Vincula\, The Town\, South Newington\, OX15 4JG\, United Kingdom
END:VEVENT
BEGIN:VEVENT
DTSTART;TZID=Europe/London:20250417T103000
DTEND;TZID=Europe/London:20250417T120000
DTSTAMP:20260426T031109
CREATED:20250109T130154Z
LAST-MODIFIED:20250403T110420Z
UID:80160-1744885800-1744891200@www.southnewington.co.uk
SUMMARY:Coffee Morning at the Village Hall - 10.30am to 12 noon on Thursday 17th April 2025
DESCRIPTION:You are invited to a coffee morning in the village hall from 10.30am to 12 noon hosted by Penny Price and Diana McIlveen
URL:https://www.southnewington.co.uk/event/cofffee-morning-at-the-village-hall-10-30am-to-12noon-on-thursday-17th-april-2025/
LOCATION:Village Hall\, Barford Road\, South Newington\, OX15 4JL\, United Kingdom
END:VEVENT
BEGIN:VEVENT
DTSTART;TZID=Europe/London:20250413T180000
DTEND;TZID=Europe/London:20250413T180000
DTSTAMP:20260426T031109
CREATED:20250403T173905Z
LAST-MODIFIED:20250403T173905Z
UID:80448-1744567200-1744567200@www.southnewington.co.uk
SUMMARY:Church Service - Benefice Zoom Night Prayer Sunday 13th April 2025 @ 6pm
DESCRIPTION:Benefice Zoom Service at 6.00pm use the link below or dial in \nhttps://us02web.zoom.us/j/84248830391?pwd=UURHb0FFSjRMd0FFMUtma1Bhd0dZZz09 \nMeeting ID: 842 4883 0391 Passcode: 559387 \nDial from your landline — 0203 481 5240 or 0203 051 2874 or 0131 460 1196
URL:https://www.southnewington.co.uk/event/church-service-benefice-zoom-night-prayer-sunday-13th-april-2025-6pm/
END:VEVENT
BEGIN:VEVENT
DTSTART;TZID=Europe/London:20250413T170000
DTEND;TZID=Europe/London:20250413T170000
DTSTAMP:20260426T031109
CREATED:20250403T173750Z
LAST-MODIFIED:20250403T173750Z
UID:80446-1744563600-1744563600@www.southnewington.co.uk
SUMMARY:Church Service - Evening Prayer + Hymns Sunday 13th April 2025 @ 5pm
DESCRIPTION:
URL:https://www.southnewington.co.uk/event/church-service-evening-prayer-hymns-sunday-13th-april-2025-5pm/
LOCATION:St Peter Ad Vincula\, The Town\, South Newington\, OX15 4JG\, United Kingdom
END:VEVENT
BEGIN:VEVENT
DTSTART;TZID=Europe/London:20250410T200000
DTEND;TZID=Europe/London:20250410T203000
DTSTAMP:20260426T031109
CREATED:20250403T110115Z
LAST-MODIFIED:20250403T110115Z
UID:80435-1744315200-1744317000@www.southnewington.co.uk
SUMMARY:Extraordinary Parish Council Meeting Thursday 10th April 2025 @ 8pm
DESCRIPTION:This meeting is to discuss the North Oxfordshire Topsoil Planning Application
URL:https://www.southnewington.co.uk/event/extraordinary-parish-council-meeting-thursday-10th-april-2025-8pm/
LOCATION:Village Hall\, Barford Road\, South Newington\, OX15 4JL\, United Kingdom
END:VEVENT
BEGIN:VEVENT
DTSTART;TZID=Europe/London:20250410T194500
DTEND;TZID=Europe/London:20250410T200000
DTSTAMP:20260426T031109
CREATED:20250403T110232Z
LAST-MODIFIED:20250403T110232Z
UID:80437-1744314300-1744315200@www.southnewington.co.uk
SUMMARY:Annual Parish Meeting - Thursday 10th April 2025 @ 7.45pm in the Village Hall
DESCRIPTION:
URL:https://www.southnewington.co.uk/event/annual-parish-meeting-thursday-10th-april-2025-7-45pm-in-the-village-hall/
LOCATION:Village Hall\, Barford Road\, South Newington\, OX15 4JL\, United Kingdom
END:VEVENT
BEGIN:VEVENT
DTSTART;TZID=Europe/London:20250406T180000
DTEND;TZID=Europe/London:20250406T180000
DTSTAMP:20260426T031109
CREATED:20250328T145715Z
LAST-MODIFIED:20250328T145745Z
UID:80414-1743962400-1743962400@www.southnewington.co.uk
SUMMARY:Church Service - Benefice Zoom Night Prayer - Sunday 6th April @ 6pm
DESCRIPTION:Benefice Zoom Service at 6.00pm use the link below or dial in \nhttps://us02web.zoom.us/j/84248830391?pwd=UURHb0FFSjRMd0FFMUtma1Bhd0dZZz09 \nMeeting ID: 842 4883 0391 Passcode: 559387 \nDial from your landline — 0203 481 5240 or 0203 051 2874 or 0131 460 1196
URL:https://www.southnewington.co.uk/event/church-service-benefice-zoom-night-prayer-sunday-6th-april-6pm/
END:VEVENT
BEGIN:VEVENT
DTSTART;TZID=Europe/London:20250406T080000
DTEND;TZID=Europe/London:20250406T080000
DTSTAMP:20260426T031109
CREATED:20250328T145617Z
LAST-MODIFIED:20250328T150014Z
UID:80412-1743926400-1743926400@www.southnewington.co.uk
SUMMARY:Church Service - BCP Holy Communion - Sunday 6th April 2025 @ 8am
DESCRIPTION:
URL:https://www.southnewington.co.uk/event/church-service-bcp-holy-communion-sunday-6th-april-2025/
LOCATION:St Peter Ad Vincula\, The Town\, South Newington\, OX15 4JG\, United Kingdom
END:VEVENT
BEGIN:VEVENT
DTSTART;TZID=Europe/London:20250330T111500
DTEND;TZID=Europe/London:20250330T111500
DTSTAMP:20260426T031109
CREATED:20250321T204723Z
LAST-MODIFIED:20250328T145505Z
UID:80393-1743333300-1743333300@www.southnewington.co.uk
SUMMARY:Church Service - Joint Service with Milcombe at South Newington - Sunday 30th March 2025 at 11.15am
DESCRIPTION:
URL:https://www.southnewington.co.uk/event/church-service-joint-service-with-milcombe-at-south-newington-sundat-30th-march-2025-at-11-15am/
LOCATION:St Peter Ad Vincula\, The Town\, South Newington\, OX15 4JG\, United Kingdom
END:VEVENT
BEGIN:VEVENT
DTSTART;TZID=Europe/London:20250323T080000
DTEND;TZID=Europe/London:20250323T080000
DTSTAMP:20260426T031109
CREATED:20250313T172230Z
LAST-MODIFIED:20250313T172230Z
UID:80350-1742716800-1742716800@www.southnewington.co.uk
SUMMARY:Church Service - BCP Holy Communion - Sunday 23rd March 2025 @ 8am
DESCRIPTION:
URL:https://www.southnewington.co.uk/event/church-service-bcp-holy-communion-sunday-23rd-march-2025-8am/
LOCATION:St Peter Ad Vincula\, The Town\, South Newington\, OX15 4JG\, United Kingdom
END:VEVENT
BEGIN:VEVENT
DTSTART;TZID=Europe/London:20250320T103000
DTEND;TZID=Europe/London:20250320T120000
DTSTAMP:20260426T031109
CREATED:20250109T125945Z
LAST-MODIFIED:20250309T121747Z
UID:80157-1742466600-1742472000@www.southnewington.co.uk
SUMMARY:Coffee Morning at the Village Hall - 10.30am to 12noon on Thursday 20th March 2025
DESCRIPTION:You are invited to a coffee morning in the village hall from 10.30am to 12 noon hosted by Roz Rapp and Kirsten Suenson-Taylor.
URL:https://www.southnewington.co.uk/event/cofffee-morning-at-the-village-hall-10-30am-to-12noon-on-thursday-20th-march-2025/
LOCATION:Village Hall\, Barford Road\, South Newington\, OX15 4JL\, United Kingdom
END:VEVENT
BEGIN:VEVENT
DTSTART;TZID=Europe/London:20250316T180000
DTEND;TZID=Europe/London:20250316T180000
DTSTAMP:20260426T031109
CREATED:20250308T104222Z
LAST-MODIFIED:20250313T172101Z
UID:80300-1742148000-1742148000@www.southnewington.co.uk
SUMMARY:Church Service - Benefice Zoom Night Prayer - 16th March 2025 @ 6pm
DESCRIPTION:Benefice Zoom Service at 6.00pm use the link below or dial in \nhttps://us02web.zoom.us/j/84248830391?pwd=UURHb0FFSjRMd0FFMUtma1Bhd0dZZz09 \nMeeting ID: 842 4883 0391 Passcode: 559387 \nDial from your landline — 0203 481 5240 or 0203 051 2874 or 0131 460 1196
URL:https://www.southnewington.co.uk/event/church-service-benefice-zoom-night-prayer-16th-march-2025-6pm/
END:VEVENT
BEGIN:VEVENT
DTSTART;TZID=Europe/London:20250316T111500
DTEND;TZID=Europe/London:20250316T111500
DTSTAMP:20260426T031109
CREATED:20250308T104100Z
LAST-MODIFIED:20250308T104100Z
UID:80298-1742123700-1742123700@www.southnewington.co.uk
SUMMARY:Church Service - Family Service - Sunday 16th March 2025 @ 11.15am
DESCRIPTION:
URL:https://www.southnewington.co.uk/event/church-service-family-service-sunday-16th-march-2025-11-15am/
LOCATION:St Peter Ad Vincula\, The Town\, South Newington\, OX15 4JG\, United Kingdom
END:VEVENT
BEGIN:VEVENT
DTSTART;TZID=Europe/London:20250309T180000
DTEND;TZID=Europe/London:20250309T180000
DTSTAMP:20260426T031110
CREATED:20250227T200329Z
LAST-MODIFIED:20250227T200329Z
UID:80290-1741543200-1741543200@www.southnewington.co.uk
SUMMARY:Benefice Zoom Night Prayer - Sunday 9th March 2025 @ 6pm
DESCRIPTION:Benefice Zoom Service at 6.00pm use the link below or dial in \nhttps://us02web.zoom.us/j/84248830391?pwd=UURHb0FFSjRMd0FFMUtma1Bhd0dZZz09 \nMeeting ID: 842 4883 0391 Passcode: 559387 \nDial from your landline — 0203 481 5240 or 0203 051 2874 or 0131 460 1196
URL:https://www.southnewington.co.uk/event/benefice-zoom-night-prayer-sunday-9th-march-2025-6pm/
END:VEVENT
BEGIN:VEVENT
DTSTART;TZID=Europe/London:20250309T170000
DTEND;TZID=Europe/London:20250309T170000
DTSTAMP:20260426T031110
CREATED:20250227T200215Z
LAST-MODIFIED:20250227T200215Z
UID:80288-1741539600-1741539600@www.southnewington.co.uk
SUMMARY:Church Service - Evening Prayer + Hymns - Sunday 9th March 2025 @ 5pm
DESCRIPTION:
URL:https://www.southnewington.co.uk/event/church-service-evening-prayer-hymns-sunday-9th-march-2025-5pm/
LOCATION:St Peter Ad Vincula\, The Town\, South Newington\, OX15 4JG\, United Kingdom
END:VEVENT
BEGIN:VEVENT
DTSTART;TZID=Europe/London:20250302T180000
DTEND;TZID=Europe/London:20250302T180000
DTSTAMP:20260426T031110
CREATED:20250221T152549Z
LAST-MODIFIED:20250221T152549Z
UID:80281-1740938400-1740938400@www.southnewington.co.uk
SUMMARY:Benefice Zoom Night Prayer - Sunday 2nd March 2025 @ 6pm
DESCRIPTION:Benefice Zoom Service at 6.00pm use the link below or dial in \nhttps://us02web.zoom.us/j/84248830391?pwd=UURHb0FFSjRMd0FFMUtma1Bhd0dZZz09 \nMeeting ID: 842 4883 0391 Passcode: 559387 \nDial from your landline — 0203 481 5240 or 0203 051 2874 or 0131 460 1196
URL:https://www.southnewington.co.uk/event/benefice-zoom-night-prayer-sunday-2nd-march-2025-6pm/
END:VEVENT
BEGIN:VEVENT
DTSTART;TZID=Europe/London:20250302T080000
DTEND;TZID=Europe/London:20250302T080000
DTSTAMP:20260426T031110
CREATED:20250221T152405Z
LAST-MODIFIED:20250221T152405Z
UID:80279-1740902400-1740902400@www.southnewington.co.uk
SUMMARY:Church Service - BCP Holy Communion - Sunday 2nd March 2025 @ 8am
DESCRIPTION:
URL:https://www.southnewington.co.uk/event/church-service-bcp-holy-communion-sunday-2nd-march-2025-8am/
LOCATION:St Peter Ad Vincula\, The Town\, South Newington\, OX15 4JG\, United Kingdom
END:VEVENT
BEGIN:VEVENT
DTSTART;TZID=Europe/London:20250223T080000
DTEND;TZID=Europe/London:20250223T080000
DTSTAMP:20260426T031110
CREATED:20250213T163603Z
LAST-MODIFIED:20250213T163603Z
UID:80266-1740297600-1740297600@www.southnewington.co.uk
SUMMARY:Church Service - BCP Holy Communion - Sunday 23rd February 2025 @ 8am
DESCRIPTION:
URL:https://www.southnewington.co.uk/event/church-service-bcp-holy-communion-sunday-23rd-february-2025-8am/
LOCATION:St Peter Ad Vincula\, The Town\, South Newington\, OX15 4JG\, United Kingdom
END:VEVENT
BEGIN:VEVENT
DTSTART;TZID=Europe/London:20250220T103000
DTEND;TZID=Europe/London:20250220T120000
DTSTAMP:20260426T031110
CREATED:20250109T125842Z
LAST-MODIFIED:20250109T125842Z
UID:80155-1740047400-1740052800@www.southnewington.co.uk
SUMMARY:Coffee Morning at the Village Hall 10:30am - 12 Noon - Thursday 20th February 2025
DESCRIPTION:
URL:https://www.southnewington.co.uk/event/coffee-morning-at-the-village-hall-1030am-12-noon-thursday-20th-february-2025/
LOCATION:Village Hall\, Barford Road\, South Newington\, OX15 4JL\, United Kingdom
END:VEVENT
BEGIN:VEVENT
DTSTART;TZID=Europe/London:20250216T180000
DTEND;TZID=Europe/London:20250216T180000
DTSTAMP:20260426T031110
CREATED:20250207T224517Z
LAST-MODIFIED:20250207T224517Z
UID:80250-1739728800-1739728800@www.southnewington.co.uk
SUMMARY:Church Service - Benefice Zoom Night Prayer - Sunday 16th February 2025 @ 6pm
DESCRIPTION:Benefice Zoom Service at 6.00pm use the link below or dial in \nhttps://us02web.zoom.us/j/84248830391?pwd=UURHb0FFSjRMd0FFMUtma1Bhd0dZZz09 \nMeeting ID: 842 4883 0391 Passcode: 559387 \nDial from your landline — 0203 481 5240 or 0203 051 2874 or 0131 460 1196
URL:https://www.southnewington.co.uk/event/church-service-benefice-zoom-night-prayer-sunday-16th-february-2025-6pm/
END:VEVENT
BEGIN:VEVENT
DTSTART;TZID=Europe/London:20250216T111500
DTEND;TZID=Europe/London:20250216T111500
DTSTAMP:20260426T031110
CREATED:20250207T224752Z
LAST-MODIFIED:20250207T224752Z
UID:80251-1739704500-1739704500@www.southnewington.co.uk
SUMMARY:Church Service - Family Service @ 11.15am on Sunday 16th February 2025
DESCRIPTION:
URL:https://www.southnewington.co.uk/event/church-service-family-service-11-15am-on-sunday-16th-february-2025/
END:VEVENT
BEGIN:VEVENT
DTSTART;TZID=Europe/London:20250209T180000
DTEND;TZID=Europe/London:20250209T180000
DTSTAMP:20260426T031110
CREATED:20250131T181842Z
LAST-MODIFIED:20250207T223113Z
UID:80235-1739124000-1739124000@www.southnewington.co.uk
SUMMARY:Church Service - Benefice Zoom Night Prayer - Sunday 9th February 2025 @ 6pm
DESCRIPTION:Benefice Zoom Service at 6.00pm use the link below or dial in \nhttps://us02web.zoom.us/j/84248830391?pwd=UURHb0FFSjRMd0FFMUtma1Bhd0dZZz09 \nMeeting ID: 842 4883 0391 Passcode: 559387 \nDial from your landline — 0203 481 5240 or 0203 051 2874 or 0131 460 1196
URL:https://www.southnewington.co.uk/event/churhc-service-benefice-zoom-night-prayer-sunday-9th-february-2025-6pm/
END:VEVENT
END:VCALENDAR