BEGIN:VCALENDAR
VERSION:2.0
PRODID:-//South Newington Village - ECPv6.15.16//NONSGML v1.0//EN
CALSCALE:GREGORIAN
METHOD:PUBLISH
X-ORIGINAL-URL:https://www.southnewington.co.uk
X-WR-CALDESC:Events for South Newington Village
REFRESH-INTERVAL;VALUE=DURATION:PT1H
X-Robots-Tag:noindex
X-PUBLISHED-TTL:PT1H
BEGIN:VTIMEZONE
TZID:Europe/London
BEGIN:DAYLIGHT
TZOFFSETFROM:+0000
TZOFFSETTO:+0100
TZNAME:BST
DTSTART:20240331T010000
END:DAYLIGHT
BEGIN:STANDARD
TZOFFSETFROM:+0100
TZOFFSETTO:+0000
TZNAME:GMT
DTSTART:20241027T010000
END:STANDARD
BEGIN:DAYLIGHT
TZOFFSETFROM:+0000
TZOFFSETTO:+0100
TZNAME:BST
DTSTART:20250330T010000
END:DAYLIGHT
BEGIN:STANDARD
TZOFFSETFROM:+0100
TZOFFSETTO:+0000
TZNAME:GMT
DTSTART:20251026T010000
END:STANDARD
BEGIN:DAYLIGHT
TZOFFSETFROM:+0000
TZOFFSETTO:+0100
TZNAME:BST
DTSTART:20260329T010000
END:DAYLIGHT
BEGIN:STANDARD
TZOFFSETFROM:+0100
TZOFFSETTO:+0000
TZNAME:GMT
DTSTART:20261025T010000
END:STANDARD
END:VTIMEZONE
BEGIN:VEVENT
DTSTART;TZID=Europe/London:20251120T103000
DTEND;TZID=Europe/London:20251120T120000
DTSTAMP:20260425T233954
CREATED:20250109T130807Z
LAST-MODIFIED:20251111T181524Z
UID:80173-1763634600-1763640000@www.southnewington.co.uk
SUMMARY:Coffee Morning
DESCRIPTION:You are invited to a coffee morning which is being hosted by Tracey and Kerryn Schilling.\n\n\nCome along for freshly brewed coffee or tea\, and delicious home baked cakes. \n\nProceeds will be donated to the Village Hall.
URL:https://www.southnewington.co.uk/event/cofffee-morning-2025-11-20/
LOCATION:Village Hall\, Barford Road\, South Newington\, OX15 4JL\, United Kingdom
CATEGORIES:Coffee Morning
END:VEVENT
BEGIN:VEVENT
DTSTART;TZID=Europe/London:20251118T193000
DTEND;TZID=Europe/London:20251118T203000
DTSTAMP:20260425T233954
CREATED:20251019T143125Z
LAST-MODIFIED:20251019T143125Z
UID:81303-1763494200-1763497800@www.southnewington.co.uk
SUMMARY:Parish Council Meeting
DESCRIPTION:
URL:https://www.southnewington.co.uk/event/pcm-2025-11-18/
LOCATION:Village Hall\, Barford Road\, South Newington\, OX15 4JL\, United Kingdom
ORGANIZER;CN="Vanessa Doyle":MAILTO:vanessasnpc@hotmail.com
END:VEVENT
BEGIN:VEVENT
DTSTART;TZID=Europe/London:20251116T160000
DTEND;TZID=Europe/London:20251116T170000
DTSTAMP:20260425T233954
CREATED:20251111T225310Z
LAST-MODIFIED:20251111T225310Z
UID:81697-1763308800-1763312400@www.southnewington.co.uk
SUMMARY:Evening Prayer and Hymns
DESCRIPTION:
URL:https://www.southnewington.co.uk/event/church-service-2025-11-16-1600/
LOCATION:St Peter Ad Vincula\, The Town\, South Newington\, OX15 4JG\, United Kingdom
CATEGORIES:Church Service
END:VEVENT
BEGIN:VEVENT
DTSTART;TZID=Europe/London:20251031T193000
DTEND;TZID=Europe/London:20251031T220000
DTSTAMP:20260425T233954
CREATED:20250920T143738Z
LAST-MODIFIED:20250920T144009Z
UID:81183-1761939000-1761948000@www.southnewington.co.uk
SUMMARY:South Newington Supper Club
DESCRIPTION:Join us for a Halloween Cocktail\, two-course dinner and quiz for £20 pp. \n\n\nBring your own drinks and glasses\nHalloween fancy dress is optional\n\nPlease join us after Trick or Treating!  \nAll proceeds to the Village Hall Development Fund.  \n\nTo reserve tickets\, contact Zoe Colegrave
URL:https://www.southnewington.co.uk/event/south-newington-supper-club/
LOCATION:Village Hall\, Barford Road\, South Newington\, OX15 4JL\, United Kingdom
END:VEVENT
BEGIN:VEVENT
DTSTART;TZID=Europe/London:20251026T080000
DTEND;TZID=Europe/London:20251026T100000
DTSTAMP:20260425T233954
CREATED:20251016T203506Z
LAST-MODIFIED:20251016T203506Z
UID:81293-1761465600-1761472800@www.southnewington.co.uk
SUMMARY:Church Services - BCP Holy Communion
DESCRIPTION:
URL:https://www.southnewington.co.uk/event/church-services-bcp-holy-communion/
LOCATION:St Peter Ad Vincula\, The Town\, South Newington\, OX15 4JG\, United Kingdom
END:VEVENT
BEGIN:VEVENT
DTSTART;TZID=Europe/London:20251019T111500
DTEND;TZID=Europe/London:20251019T120000
DTSTAMP:20260425T233954
CREATED:20251009T163314Z
LAST-MODIFIED:20251009T163315Z
UID:81264-1760872500-1760875200@www.southnewington.co.uk
SUMMARY:Church Services - Family Service
DESCRIPTION:
URL:https://www.southnewington.co.uk/event/church-services-family-service/
LOCATION:St Peter Ad Vincula\, The Town\, South Newington\, OX15 4JG\, United Kingdom
END:VEVENT
BEGIN:VEVENT
DTSTART;TZID=Europe/London:20251016T103000
DTEND;TZID=Europe/London:20251016T120000
DTSTAMP:20260425T233954
CREATED:20250109T130703Z
LAST-MODIFIED:20250309T122904Z
UID:80171-1760610600-1760616000@www.southnewington.co.uk
SUMMARY:Coffee Morning at the Village Hall - 10.30am to 12 noon on Thursday 16th October 2025
DESCRIPTION:You are invited to a coffee morning in the village hall from 10.30am to 12 noon hosted by Sue Robertson and Steve Anderson
URL:https://www.southnewington.co.uk/event/cofffee-morning-at-the-village-hall-10-30am-to-12-noon-on-thursday-16th-october-2025/
LOCATION:Village Hall\, Barford Road\, South Newington\, OX15 4JL\, United Kingdom
END:VEVENT
BEGIN:VEVENT
DTSTART;TZID=Europe/London:20251012T160000
DTEND;TZID=Europe/London:20251012T170000
DTSTAMP:20260425T233954
CREATED:20251009T163128Z
LAST-MODIFIED:20251009T163128Z
UID:81262-1760284800-1760288400@www.southnewington.co.uk
SUMMARY:Church Service - Evening Prayer and Hymns
DESCRIPTION:
URL:https://www.southnewington.co.uk/event/church-service-evening-prayer-and-hymns/
LOCATION:St Peter Ad Vincula\, The Town\, South Newington\, OX15 4JG\, United Kingdom
END:VEVENT
BEGIN:VEVENT
DTSTART;TZID=Europe/London:20250918T103000
DTEND;TZID=Europe/London:20250918T120000
DTSTAMP:20260425T233954
CREATED:20250109T130606Z
LAST-MODIFIED:20250822T152553Z
UID:80169-1758191400-1758196800@www.southnewington.co.uk
SUMMARY:Macmillan Coffee Morning at the Village Hall - 10.30am to 12 noon on Thursday 18th September 2025
DESCRIPTION:You are invited to the Macmillan coffee morning in the village hall from 10.30am to 12 noon hosted by Judith Denby and Becky Harden
URL:https://www.southnewington.co.uk/event/cofffee-morning-at-the-village-hall-10-30am-to-12-noon-on-thursday18th-september-2025/
LOCATION:Village Hall\, Barford Road\, South Newington\, OX15 4JL\, United Kingdom
END:VEVENT
BEGIN:VEVENT
DTSTART;TZID=Europe/London:20250831T111500
DTEND;TZID=Europe/London:20250831T111500
DTSTAMP:20260425T233954
CREATED:20250822T152303Z
LAST-MODIFIED:20250822T152303Z
UID:81025-1756638900-1756638900@www.southnewington.co.uk
SUMMARY:Church Service - Joint Family Communion with   Milcombe at South Newington @ 11.15am on Sunday  31st August 2025
DESCRIPTION:
URL:https://www.southnewington.co.uk/event/church-service-joint-family-communion-with-milcombe-at-south-newington-11-15am-on-sunday-31st-august-2025/
LOCATION:St Peter Ad Vincula\, The Town\, South Newington\, OX15 4JG\, United Kingdom
END:VEVENT
BEGIN:VEVENT
DTSTART;TZID=Europe/London:20250824T080000
DTEND;TZID=Europe/London:20250824T080000
DTSTAMP:20260425T233954
CREATED:20250814T162136Z
LAST-MODIFIED:20250814T162136Z
UID:81006-1756022400-1756022400@www.southnewington.co.uk
SUMMARY:Church Service - BCP Holy Communion - Sunday 24th August 2025 @ 8am
DESCRIPTION:
URL:https://www.southnewington.co.uk/event/church-service-bcp-holy-communion-sunday-24th-august-2025-8am/
LOCATION:St Peter Ad Vincula\, The Town\, South Newington\, OX15 4JG\, United Kingdom
END:VEVENT
BEGIN:VEVENT
DTSTART;TZID=Europe/London:20250817T170000
DTEND;TZID=Europe/London:20250817T170000
DTSTAMP:20260425T233954
CREATED:20250731T194248Z
LAST-MODIFIED:20250808T150525Z
UID:80957-1755450000-1755450000@www.southnewington.co.uk
SUMMARY:Church Service - Sung Evening Prayer @5pm on Sunday 17th August 2025
DESCRIPTION:
URL:https://www.southnewington.co.uk/event/church-service-benefice-patronal-hc-11-15am-on-sunday-10th-august-2025/
LOCATION:St Peter Ad Vincula\, The Town\, South Newington\, OX15 4JG\, United Kingdom
END:VEVENT
BEGIN:VEVENT
DTSTART;TZID=Europe/London:20250803T080000
DTEND;TZID=Europe/London:20250803T080000
DTSTAMP:20260425T233954
CREATED:20250724T174635Z
LAST-MODIFIED:20250724T174635Z
UID:80946-1754208000-1754208000@www.southnewington.co.uk
SUMMARY:Church Service - BCP Holy Communion - Sunday 3rd August 2025 @ 8am
DESCRIPTION:
URL:https://www.southnewington.co.uk/event/church-service-bcp-holy-communion-sunday-3rd-august-2025-8am/
LOCATION:St Peter Ad Vincula\, The Town\, South Newington\, OX15 4JG\, United Kingdom
END:VEVENT
BEGIN:VEVENT
DTSTART;TZID=Europe/London:20250727T080000
DTEND;TZID=Europe/London:20250727T080000
DTSTAMP:20260425T233954
CREATED:20250719T193144Z
LAST-MODIFIED:20250719T193144Z
UID:80936-1753603200-1753603200@www.southnewington.co.uk
SUMMARY:Church Service - BCP Holy Communion - Sunday 27th July 2025 @ 8am
DESCRIPTION:
URL:https://www.southnewington.co.uk/event/church-service-bcp-holy-communion-sunday-27th-july-2025-8am/
LOCATION:St Peter Ad Vincula\, The Town\, South Newington\, OX15 4JG\, United Kingdom
END:VEVENT
BEGIN:VEVENT
DTSTART;TZID=Europe/London:20250720T170000
DTEND;TZID=Europe/London:20250720T170000
DTSTAMP:20260425T233954
CREATED:20250711T091703Z
LAST-MODIFIED:20250711T091703Z
UID:80918-1753030800-1753030800@www.southnewington.co.uk
SUMMARY:Church Service - Sung Evening Prayer - Sunday 20th July 2025 @ 5pm
DESCRIPTION:
URL:https://www.southnewington.co.uk/event/church-service-sung-evening-prayer-sunday-20th-july-2025-5pm/
LOCATION:St Peter Ad Vincula\, The Town\, South Newington\, OX15 4JG\, United Kingdom
END:VEVENT
BEGIN:VEVENT
DTSTART;TZID=Europe/London:20250717T103000
DTEND;TZID=Europe/London:20250717T120000
DTSTAMP:20260425T233954
CREATED:20250109T130447Z
LAST-MODIFIED:20250309T122351Z
UID:80167-1752748200-1752753600@www.southnewington.co.uk
SUMMARY:Coffee Morning at the Village Hall - 10.30am to 12 noon on Thursday 17th July 2025
DESCRIPTION:You are invited to a coffee morning in the village hall from 10.30am to 12 noon hosted by Candi Giachetti\, Nicky Smith and Cally Willoughby-Ward
URL:https://www.southnewington.co.uk/event/cofffee-morning-at-the-village-hall-10-30am-to-12-noon-on-thursday-17th-july-2025/
LOCATION:Village Hall\, Barford Road\, South Newington\, OX15 4JL\, United Kingdom
END:VEVENT
BEGIN:VEVENT
DTSTART;TZID=Europe/London:20250715T193000
DTEND;TZID=Europe/London:20250715T203000
DTSTAMP:20260425T233954
CREATED:20250713T113621Z
LAST-MODIFIED:20250713T113621Z
UID:80925-1752607800-1752611400@www.southnewington.co.uk
SUMMARY:Parish Council Meeting - Tuesday 15th July 2025 @ 7.30pm in the Village Hall
DESCRIPTION:
URL:https://www.southnewington.co.uk/event/parish-council-meeting-tuesday-15th-july-2025-7-30pm-in-the-village-hall/
LOCATION:Village Hall\, Barford Road\, South Newington\, OX15 4JL\, United Kingdom
END:VEVENT
BEGIN:VEVENT
DTSTART;TZID=Europe/London:20250713T111500
DTEND;TZID=Europe/London:20250713T111500
DTSTAMP:20260425T233954
CREATED:20250704T170014Z
LAST-MODIFIED:20250704T170014Z
UID:80901-1752405300-1752405300@www.southnewington.co.uk
SUMMARY:Church Service - Family Service on Sunday 13th July 2025 @ 11.15am
DESCRIPTION:
URL:https://www.southnewington.co.uk/event/church-service-family-service-on-sunday-13th-july-2025-11-15am/
LOCATION:St Peter Ad Vincula\, The Town\, South Newington\, OX15 4JG\, United Kingdom
END:VEVENT
BEGIN:VEVENT
DTSTART;TZID=Europe/London:20250706T080000
DTEND;TZID=Europe/London:20250706T080000
DTSTAMP:20260425T233954
CREATED:20250704T165816Z
LAST-MODIFIED:20250704T165816Z
UID:80899-1751788800-1751788800@www.southnewington.co.uk
SUMMARY:Church Service - BCP Holy Communion - Sunday 6th July 2025 @ 8am
DESCRIPTION:
URL:https://www.southnewington.co.uk/event/church-service-bcp-holy-communion-sunday-6th-july-2025-8am/
LOCATION:St Peter Ad Vincula\, The Town\, South Newington\, OX15 4JG\, United Kingdom
END:VEVENT
BEGIN:VEVENT
DTSTART;TZID=Europe/London:20250622T080000
DTEND;TZID=Europe/London:20250622T080000
DTSTAMP:20260425T233954
CREATED:20250612T154527Z
LAST-MODIFIED:20250612T154527Z
UID:80850-1750579200-1750579200@www.southnewington.co.uk
SUMMARY:Church Service - BCP Holy Communion @ 8am on Sunday 22nd June 2025
DESCRIPTION:
URL:https://www.southnewington.co.uk/event/church-service-bcp-holy-communion-8am-on-sunday-22nd-june-2025/
LOCATION:St Peter Ad Vincula\, The Town\, South Newington\, OX15 4JG\, United Kingdom
END:VEVENT
BEGIN:VEVENT
DTSTART;TZID=Europe/London:20250619T103000
DTEND;TZID=Europe/London:20250619T120000
DTSTAMP:20260425T233954
CREATED:20250109T130339Z
LAST-MODIFIED:20250309T122418Z
UID:80164-1750329000-1750334400@www.southnewington.co.uk
SUMMARY:Coffee Morning at the Village Hall - 10.30am to 12 noon on Thursday 19th June 2025
DESCRIPTION:You are invited to a coffee morning in the village hall from 10.30am to 12 noon hosted by Gill Brounger\, Lin Brecknell and Marijke Jones
URL:https://www.southnewington.co.uk/event/cofffee-morning-at-the-village-hall-10-30am-to-12noon-on-thursday-19th-june-2025/
LOCATION:Village Hall\, Barford Road\, South Newington\, OX15 4JL\, United Kingdom
END:VEVENT
BEGIN:VEVENT
DTSTART;TZID=Europe/London:20250615T111500
DTEND;TZID=Europe/London:20250615T111500
DTSTAMP:20260425T233954
CREATED:20250605T183015Z
LAST-MODIFIED:20250605T183015Z
UID:80824-1749986100-1749986100@www.southnewington.co.uk
SUMMARY:Family Church Service @ 11.15am on Sunday 15th June 2025
DESCRIPTION:
URL:https://www.southnewington.co.uk/event/family-church-service-11-15am-on-sunday-15th-june-2025/
LOCATION:St Peter Ad Vincula\, The Town\, South Newington\, OX15 4JG\, United Kingdom
END:VEVENT
BEGIN:VEVENT
DTSTART;TZID=Europe/London:20250608T180000
DTEND;TZID=Europe/London:20250608T190000
DTSTAMP:20260425T233954
CREATED:20250603T145339Z
LAST-MODIFIED:20250603T145339Z
UID:80806-1749405600-1749409200@www.southnewington.co.uk
SUMMARY:Sunday 8th June 6pm South Newington Occasional Singers Summer Concert
DESCRIPTION:Please do come along and enjoy the village choir performing a wide selection of popular choral and folk classics.\n \nMusic includes famous choruses by Elgar\, Faure\, Mozart\, Vivaldi and Verdi plus singalong sea shanties\, and a performance of Grieg’s Piano Sonata in E Minor\n \nConductor: Stuart Dunlop\nPianist: Kieran Galliard\n \n6pm in the church\, free admission\, but a retiring collection for Cancer Research.
URL:https://www.southnewington.co.uk/event/sunday-8th-june-6pm-south-newington-occasional-singers-summer-concert/
LOCATION:St Peter Ad Vincula\, The Town\, South Newington\, OX15 4JG\, United Kingdom
END:VEVENT
BEGIN:VEVENT
DTSTART;TZID=Europe/London:20250608T113000
DTEND;TZID=Europe/London:20250608T170000
DTSTAMP:20260425T233954
CREATED:20250603T145513Z
LAST-MODIFIED:20250603T145513Z
UID:80808-1749382200-1749402000@www.southnewington.co.uk
SUMMARY:South Newington Open Gardens - Sunday 8th June - 11.30am to 5pm
DESCRIPTION:South Newington Open Gardens day is being held on Sunday 8th June in support of Katharine House Hospice.   \n \n7 beautiful and varied gardens will be open from 11.30 to 5 pm.   \n£7.50 to visit all  seven gardens\, children free. \nTickets can be purchased at any of the open gardens or at the at the Village Hall from 11.30am\n \nThe following gardens will be open\n\n\n \nSouth Newington House (car parking at the field there)\nBush House\, Wiggington Rd\nCollege Farm meadows and garden\, The Town\nThe Barn\, Green Lane\nBarnhouse\, The Town\nFoxlands\, Moor Lane\nChapel House. The High Street\nJust Plants\, The High Street.\n\n \n \n\nTeas and cakes will be served in the Village Hall and visitors will be able to buy plants at Just Plants and also wander round the kitchen gardens at the Duck on the Pond.   \n \nThere will also be a scavenger hunt for children. Scavenger hunt details will be available at the village hall from 11;30am\n \n\nFurther details can be found on the KHH website at https://khh.org.uk/whats-on/fundraising-events/south-newington-open-gardens/
URL:https://www.southnewington.co.uk/event/south-newington-open-gardens-sunday-8th-june-11-30am-to-5pm/
END:VEVENT
BEGIN:VEVENT
DTSTART;TZID=Europe/London:20250608T080000
DTEND;TZID=Europe/London:20250608T080000
DTSTAMP:20260425T233954
CREATED:20250529T182147Z
LAST-MODIFIED:20250529T182147Z
UID:80745-1749369600-1749369600@www.southnewington.co.uk
SUMMARY:Church Service - BCP Holy Communion @ 8am on Sunday 8th June 2025
DESCRIPTION:
URL:https://www.southnewington.co.uk/event/church-service-bcp-holy-communion-8am-on-sunday-8th-june-2025/
LOCATION:St Peter Ad Vincula\, The Town\, South Newington\, OX15 4JG\, United Kingdom
END:VEVENT
BEGIN:VEVENT
DTSTART;TZID=Europe/London:20250601T180000
DTEND;TZID=Europe/London:20250601T180000
DTSTAMP:20260425T233954
CREATED:20250525T134340Z
LAST-MODIFIED:20250525T134340Z
UID:80730-1748800800-1748800800@www.southnewington.co.uk
SUMMARY:Church Service - Benefice Zoom Night Prayer - Sunday 1st June @ 6pm
DESCRIPTION:Benefice Zoom Service at 6.00pm use the link below or dial in \nhttps://us02web.zoom.us/j/84248830391? \npwd=UURHb0FFSjRMd0FFMUtma1Bhd0dZZz09 \nMeeting ID: 842 4883 0391 Passcode: 559387 \nDial from your landline — 0203 481 5240 or 0203 051 2874 or 0131 460 1196
URL:https://www.southnewington.co.uk/event/church-service-benefice-zoom-night-prayer-sunday-1st-june-6pm/
END:VEVENT
BEGIN:VEVENT
DTSTART;TZID=Europe/London:20250601T080000
DTEND;TZID=Europe/London:20250601T080000
DTSTAMP:20260425T233954
CREATED:20250525T134140Z
LAST-MODIFIED:20250525T134140Z
UID:80728-1748764800-1748764800@www.southnewington.co.uk
SUMMARY:Church Service - BCP Holy Communion at 8am on Sunday 1st June 2025
DESCRIPTION:
URL:https://www.southnewington.co.uk/event/church-service-bcp-holy-communion-at-8am-on-sunday-1st-june-2025/
LOCATION:St Peter Ad Vincula\, The Town\, South Newington\, OX15 4JG\, United Kingdom
END:VEVENT
BEGIN:VEVENT
DTSTART;TZID=Europe/London:20250525T080000
DTEND;TZID=Europe/London:20250525T080000
DTSTAMP:20260425T233954
CREATED:20250517T123238Z
LAST-MODIFIED:20250517T123238Z
UID:80714-1748160000-1748160000@www.southnewington.co.uk
SUMMARY:Church Service - BCP Holy Communion @ 8am on Sunday 25th May 2025
DESCRIPTION:
URL:https://www.southnewington.co.uk/event/church-service-bcp-holy-communion-8am-on-sunday-25th-may-2025/
LOCATION:St Peter Ad Vincula\, The Town\, South Newington\, OX15 4JG\, United Kingdom
END:VEVENT
BEGIN:VEVENT
DTSTART;TZID=Europe/London:20250518T180000
DTEND;TZID=Europe/London:20250518T180000
DTSTAMP:20260425T233954
CREATED:20250509T085637Z
LAST-MODIFIED:20250517T123016Z
UID:80554-1747591200-1747591200@www.southnewington.co.uk
SUMMARY:Church Service - Benefice Zoom Night Prayer - Sunday 18th May 2025 @ 6pm
DESCRIPTION:Benefice Zoom Service at 6.00pm use the link below or dial in \nhttps://us02web.zoom.us/j/84248830391? \npwd=UURHb0FFSjRMd0FFMUtma1Bhd0dZZz09 \nMeeting ID: 842 4883 0391 Passcode: 559387 \nDial from your landline — 0203 481 5240 or 0203 051 2874 or 0131 460 1196
URL:https://www.southnewington.co.uk/event/church-service-benefice-zoom-night-prayer-sunday-18th-may-2025-6pm/
END:VEVENT
BEGIN:VEVENT
DTSTART;TZID=Europe/London:20250518T111500
DTEND;TZID=Europe/London:20250518T231500
DTSTAMP:20260425T233954
CREATED:20250509T085513Z
LAST-MODIFIED:20250509T085513Z
UID:80552-1747566900-1747610100@www.southnewington.co.uk
SUMMARY:Church Service - Family Service - Sunday 18th May 2025 @ 11.15am
DESCRIPTION:
URL:https://www.southnewington.co.uk/event/church-service-family-service-sunday-18th-may-2025-11-15am/
LOCATION:St Peter Ad Vincula\, The Town\, South Newington\, OX15 4JG\, United Kingdom
END:VEVENT
END:VCALENDAR