BEGIN:VCALENDAR
VERSION:2.0
PRODID:-//South Newington Village - ECPv6.15.16//NONSGML v1.0//EN
CALSCALE:GREGORIAN
METHOD:PUBLISH
X-ORIGINAL-URL:https://www.southnewington.co.uk
X-WR-CALDESC:Events for South Newington Village
REFRESH-INTERVAL;VALUE=DURATION:PT1H
X-Robots-Tag:noindex
X-PUBLISHED-TTL:PT1H
BEGIN:VTIMEZONE
TZID:Europe/London
BEGIN:DAYLIGHT
TZOFFSETFROM:+0000
TZOFFSETTO:+0100
TZNAME:BST
DTSTART:20250330T010000
END:DAYLIGHT
BEGIN:STANDARD
TZOFFSETFROM:+0100
TZOFFSETTO:+0000
TZNAME:GMT
DTSTART:20251026T010000
END:STANDARD
BEGIN:DAYLIGHT
TZOFFSETFROM:+0000
TZOFFSETTO:+0100
TZNAME:BST
DTSTART:20260329T010000
END:DAYLIGHT
BEGIN:STANDARD
TZOFFSETFROM:+0100
TZOFFSETTO:+0000
TZNAME:GMT
DTSTART:20261025T010000
END:STANDARD
BEGIN:DAYLIGHT
TZOFFSETFROM:+0000
TZOFFSETTO:+0100
TZNAME:BST
DTSTART:20270328T010000
END:DAYLIGHT
BEGIN:STANDARD
TZOFFSETFROM:+0100
TZOFFSETTO:+0000
TZNAME:GMT
DTSTART:20271031T010000
END:STANDARD
END:VTIMEZONE
BEGIN:VEVENT
DTSTART;TZID=Europe/London:20260521T103000
DTEND;TZID=Europe/London:20260521T120000
DTSTAMP:20260426T005207
CREATED:20260108T092023Z
LAST-MODIFIED:20260108T102245Z
UID:82958-1779359400-1779364800@www.southnewington.co.uk
SUMMARY:Coffee Morning
DESCRIPTION:Everyone is welcome to this hosted event\, with home-made cakes\, freshly brewed coffee and tea and fabulous raffle prizes. Come along for a chat with friends and neighbours and support the village hall at the same time. All donations in aid of the Village Hall.
URL:https://www.southnewington.co.uk/event/cm-2026-05-21/
LOCATION:Village Hall\, Barford Road\, South Newington\, OX15 4JL\, United Kingdom
CATEGORIES:Coffee Morning
END:VEVENT
BEGIN:VEVENT
DTSTART;TZID=Europe/London:20260616T103000
DTEND;TZID=Europe/London:20260616T120000
DTSTAMP:20260426T005207
CREATED:20260108T095638Z
LAST-MODIFIED:20260108T102234Z
UID:82960-1781605800-1781611200@www.southnewington.co.uk
SUMMARY:Coffee Morning
DESCRIPTION:Everyone is welcome to this hosted event\, with home-made cakes\, freshly brewed coffee and tea and fabulous raffle prizes. Come along for a chat with friends and neighbours and support the village hall at the same time. All donations in aid of the Village Hall.
URL:https://www.southnewington.co.uk/event/cm-2026-06-16/
LOCATION:Village Hall\, Barford Road\, South Newington\, OX15 4JL\, United Kingdom
CATEGORIES:Coffee Morning
END:VEVENT
BEGIN:VEVENT
DTSTART;TZID=Europe/London:20260716T103000
DTEND;TZID=Europe/London:20260716T120000
DTSTAMP:20260426T005207
CREATED:20260108T095756Z
LAST-MODIFIED:20260108T102225Z
UID:82962-1784197800-1784203200@www.southnewington.co.uk
SUMMARY:Coffee Morning
DESCRIPTION:Everyone is welcome to this hosted event\, with home-made cakes\, freshly brewed coffee and tea and fabulous raffle prizes. Come along for a chat with friends and neighbours and support the village hall at the same time. All donations in aid of the Village Hall.
URL:https://www.southnewington.co.uk/event/cm-2026-07-16/
LOCATION:Village Hall\, Barford Road\, South Newington\, OX15 4JL\, United Kingdom
CATEGORIES:Coffee Morning
END:VEVENT
BEGIN:VEVENT
DTSTART;TZID=Europe/London:20260917T103000
DTEND;TZID=Europe/London:20260917T120000
DTSTAMP:20260426T005207
CREATED:20260108T095924Z
LAST-MODIFIED:20260108T102157Z
UID:82964-1789641000-1789646400@www.southnewington.co.uk
SUMMARY:Coffee Morning
DESCRIPTION:Everyone is welcome to this hosted event\, with home-made cakes\, freshly brewed coffee and tea and fabulous raffle prizes. Come along for a chat with friends and neighbours and support the village hall at the same time. All donations in aid of the Village Hall.
URL:https://www.southnewington.co.uk/event/cm-2026-09-17/
LOCATION:Village Hall\, Barford Road\, South Newington\, OX15 4JL\, United Kingdom
CATEGORIES:Coffee Morning
END:VEVENT
BEGIN:VEVENT
DTSTART;TZID=Europe/London:20261015T103000
DTEND;TZID=Europe/London:20261015T120000
DTSTAMP:20260426T005207
CREATED:20260108T100059Z
LAST-MODIFIED:20260108T102217Z
UID:82966-1792060200-1792065600@www.southnewington.co.uk
SUMMARY:Coffee Morning
DESCRIPTION:Everyone is welcome to this hosted event\, with home-made cakes\, freshly brewed coffee and tea and fabulous raffle prizes. Come along for a chat with friends and neighbours and support the village hall at the same time. All donations in aid of the Village Hall.
URL:https://www.southnewington.co.uk/event/cm-2026-10-15/
LOCATION:Village Hall\, Barford Road\, South Newington\, OX15 4JL\, United Kingdom
CATEGORIES:Coffee Morning
END:VEVENT
BEGIN:VEVENT
DTSTART;TZID=Europe/London:20261119T103000
DTEND;TZID=Europe/London:20261119T120000
DTSTAMP:20260426T005207
CREATED:20260108T101914Z
LAST-MODIFIED:20260108T102208Z
UID:82968-1795084200-1795089600@www.southnewington.co.uk
SUMMARY:Coffee Morning
DESCRIPTION:Everyone is welcome to this hosted event\, with home-made cakes\, freshly brewed coffee and tea and fabulous raffle prizes. Come along for a chat with friends and neighbours and support the village hall at the same time. All donations in aid of the Village Hall.
URL:https://www.southnewington.co.uk/event/cm-2026-11-19/
LOCATION:Village Hall\, Barford Road\, South Newington\, OX15 4JL\, United Kingdom
CATEGORIES:Coffee Morning
END:VEVENT
BEGIN:VEVENT
DTSTART;TZID=Europe/London:20261217T103000
DTEND;TZID=Europe/London:20261217T120000
DTSTAMP:20260426T005207
CREATED:20260108T102028Z
LAST-MODIFIED:20260108T102037Z
UID:82970-1797503400-1797508800@www.southnewington.co.uk
SUMMARY:Coffee Morning
DESCRIPTION:Everyone is welcome to this hosted event\, with home-made cakes\, freshly brewed coffee and tea and fabulous raffle prizes. Come along for a chat with friends and neighbours and support the village hall at the same time. All donations in aid of the Village Hall.
URL:https://www.southnewington.co.uk/event/cm-2026-12-17/
LOCATION:Village Hall\, Barford Road\, South Newington\, OX15 4JL\, United Kingdom
CATEGORIES:Coffee Morning
END:VEVENT
END:VCALENDAR